BEGIN:VCALENDAR
VERSION:2.0
PRODID:-//Atlanta Contact Point - ECPv6.15.1.1//NONSGML v1.0//EN
CALSCALE:GREGORIAN
METHOD:PUBLISH
X-ORIGINAL-URL:https://www.atlcp.org
X-WR-CALDESC:Events for Atlanta Contact Point
REFRESH-INTERVAL;VALUE=DURATION:PT1H
X-Robots-Tag:noindex
X-PUBLISHED-TTL:PT1H
BEGIN:VTIMEZONE
TZID:America/New_York
BEGIN:DAYLIGHT
TZOFFSETFROM:-0500
TZOFFSETTO:-0400
TZNAME:EDT
DTSTART:20190310T070000
END:DAYLIGHT
BEGIN:STANDARD
TZOFFSETFROM:-0400
TZOFFSETTO:-0500
TZNAME:EST
DTSTART:20191103T060000
END:STANDARD
END:VTIMEZONE
BEGIN:VEVENT
DTSTART;TZID=America/New_York:20191207T110000
DTEND;TZID=America/New_York:20191207T130000
DTSTAMP:20260424T174046
CREATED:20191122T202314Z
LAST-MODIFIED:20191122T202429Z
UID:8029-1575716400-1575723600@www.atlcp.org
SUMMARY:Bday OFFSITE (INDOOR HOLD)
DESCRIPTION:Mcbrearty; off­site\, INDOOR HOLD; $150 pd; $150 due  \nBeaver­brook Park (Beaver­brook Park\, 2243 Brookview Dr NW\, Atlanta\, GA 30318) on Dec. 7th from 11:00am — 1:00am.  My son\, Stu­art\, will be turn­ing 9 and has specif­i­cal­ly request­ed flag foot­ball\, tag and dodge­ball\, but we’re flex­i­ble.  We’ll leave it to you guys to deter­mine what works best for this age group.  We’re expect­ing 15–20 boys for the party. 
URL:https://www.atlcp.org/event/bday-offsite-indoor-hold/
END:VEVENT
BEGIN:VEVENT
DTSTART;TZID=America/New_York:20191204T160000
DTEND;TZID=America/New_York:20191204T170000
DTSTAMP:20260424T174046
CREATED:20190813T221146Z
LAST-MODIFIED:20190813T221146Z
UID:7818-1575475200-1575478800@www.atlcp.org
SUMMARY:Globe Soccer
DESCRIPTION:
URL:https://www.atlcp.org/event/globe-soccer-2019-12-04/
END:VEVENT
BEGIN:VEVENT
DTSTART;TZID=America/New_York:20191127T160000
DTEND;TZID=America/New_York:20191127T170000
DTSTAMP:20260424T174046
CREATED:20190813T221146Z
LAST-MODIFIED:20190813T221146Z
UID:7817-1574870400-1574874000@www.atlcp.org
SUMMARY:Globe Soccer
DESCRIPTION:
URL:https://www.atlcp.org/event/globe-soccer-2019-11-27/
END:VEVENT
BEGIN:VEVENT
DTSTART;TZID=America/New_York:20191124T160000
DTEND;TZID=America/New_York:20191124T180000
DTSTAMP:20260424T174046
CREATED:20191106T232323Z
LAST-MODIFIED:20191111T232701Z
UID:7986-1574611200-1574618400@www.atlcp.org
SUMMARY:Bday
DESCRIPTION:Carter; $300; $150 pd
URL:https://www.atlcp.org/event/bday-350/
END:VEVENT
BEGIN:VEVENT
DTSTART;TZID=America/New_York:20191124T133000
DTEND;TZID=America/New_York:20191124T153000
DTSTAMP:20260424T174046
CREATED:20191106T232254Z
LAST-MODIFIED:20191111T232633Z
UID:7984-1574602200-1574609400@www.atlcp.org
SUMMARY:Bday
DESCRIPTION:Carter; $300 total; $150 pd
URL:https://www.atlcp.org/event/bday-349/
END:VEVENT
BEGIN:VEVENT
DTSTART;TZID=America/New_York:20191124T113000
DTEND;TZID=America/New_York:20191124T123000
DTSTAMP:20260424T174046
CREATED:20191116T140117Z
LAST-MODIFIED:20191116T140243Z
UID:8019-1574595000-1574598600@www.atlcp.org
SUMMARY:DG Rental
DESCRIPTION:Ale­jan­dro; $50 pd; $40 due \nThanks. My email address is:\nJleebrown@comcast.net \nWe are time we are think­ing about rent­ing the space is from 12:00 — 1:00 on 11/24.
URL:https://www.atlcp.org/event/dg-rental/
END:VEVENT
BEGIN:VEVENT
DTSTART;TZID=America/New_York:20191123T160000
DTEND;TZID=America/New_York:20191123T180000
DTSTAMP:20260424T174046
CREATED:20191109T152347Z
LAST-MODIFIED:20191109T152347Z
UID:7993-1574524800-1574532000@www.atlcp.org
SUMMARY:Bday
DESCRIPTION:Woo­ley; $175 pd; Coach Caesar
URL:https://www.atlcp.org/event/bday-352/
END:VEVENT
BEGIN:VEVENT
DTSTART;TZID=America/New_York:20191121T173000
DTEND;TZID=America/New_York:20191121T183000
DTSTAMP:20260424T174046
CREATED:20190726T190623Z
LAST-MODIFIED:20190726T190623Z
UID:7748-1574357400-1574361000@www.atlcp.org
SUMMARY:DDY Soccer
DESCRIPTION:
URL:https://www.atlcp.org/event/ddy-soccer-4-2019-11-21/
END:VEVENT
BEGIN:VEVENT
DTSTART;TZID=America/New_York:20191120T173000
DTEND;TZID=America/New_York:20191120T193000
DTSTAMP:20260424T174046
CREATED:20190726T190545Z
LAST-MODIFIED:20190726T190545Z
UID:7754-1574271000-1574278200@www.atlcp.org
SUMMARY:DDY Soccer
DESCRIPTION:
URL:https://www.atlcp.org/event/ddy-soccer-3-2019-11-20/
END:VEVENT
BEGIN:VEVENT
DTSTART;TZID=America/New_York:20191120T160000
DTEND;TZID=America/New_York:20191120T170000
DTSTAMP:20260424T174046
CREATED:20190813T221146Z
LAST-MODIFIED:20190813T221146Z
UID:7816-1574265600-1574269200@www.atlcp.org
SUMMARY:Globe Soccer
DESCRIPTION:
URL:https://www.atlcp.org/event/globe-soccer-2019-11-20/
END:VEVENT
BEGIN:VEVENT
DTSTART;TZID=America/New_York:20191119T173000
DTEND;TZID=America/New_York:20191119T193000
DTSTAMP:20260424T174046
CREATED:20190726T190500Z
LAST-MODIFIED:20190726T190500Z
UID:7760-1574184600-1574191800@www.atlcp.org
SUMMARY:DDY Soccer
DESCRIPTION:
URL:https://www.atlcp.org/event/ddy-soccer-2-2019-11-19/
END:VEVENT
BEGIN:VEVENT
DTSTART;TZID=America/New_York:20191117T133000
DTEND;TZID=America/New_York:20191117T153000
DTSTAMP:20260424T174046
CREATED:20191018T195216Z
LAST-MODIFIED:20191113T002355Z
UID:7961-1573997400-1574004600@www.atlcp.org
SUMMARY:Bday
DESCRIPTION:Folse; $175 pd; Sam and E
URL:https://www.atlcp.org/event/bday-345/
END:VEVENT
BEGIN:VEVENT
DTSTART;TZID=America/New_York:20191116T160000
DTEND;TZID=America/New_York:20191116T180000
DTSTAMP:20260424T174046
CREATED:20191021T155246Z
LAST-MODIFIED:20191113T002427Z
UID:7968-1573920000-1573927200@www.atlcp.org
SUMMARY:Bday
DESCRIPTION:Redd; $175 pd; Ian and Sam \n- soc­cer 4:00–4:30\n- dodge ball 4:30–4:50\n- obsta­cle course 4:50–5:20\n- gaga pit/fooz ball time 5:20–5:40\n- Food: 5:40–6:00
URL:https://www.atlcp.org/event/bday-346/
END:VEVENT
BEGIN:VEVENT
DTSTART;TZID=America/New_York:20191116T133000
DTEND;TZID=America/New_York:20191116T153000
DTSTAMP:20260424T174046
CREATED:20191011T115440Z
LAST-MODIFIED:20191113T002457Z
UID:7944-1573911000-1573918200@www.atlcp.org
SUMMARY:Bday
DESCRIPTION:Denis; $175 pd; Lee and Val
URL:https://www.atlcp.org/event/bday-341/
END:VEVENT
BEGIN:VEVENT
DTSTART;TZID=America/New_York:20191116T110000
DTEND;TZID=America/New_York:20191116T130000
DTSTAMP:20260424T174046
CREATED:20190827T181808Z
LAST-MODIFIED:20191113T002522Z
UID:7861-1573902000-1573909200@www.atlcp.org
SUMMARY:Bday
DESCRIPTION:Eisen­berg $175 pd; Cae­sar and ?
URL:https://www.atlcp.org/event/bday-326/
END:VEVENT
BEGIN:VEVENT
DTSTART;TZID=America/New_York:20191114T173000
DTEND;TZID=America/New_York:20191114T183000
DTSTAMP:20260424T174046
CREATED:20190726T190623Z
LAST-MODIFIED:20190726T190623Z
UID:7747-1573752600-1573756200@www.atlcp.org
SUMMARY:DDY Soccer
DESCRIPTION:
URL:https://www.atlcp.org/event/ddy-soccer-4-2019-11-14/
END:VEVENT
BEGIN:VEVENT
DTSTART;TZID=America/New_York:20191113T173000
DTEND;TZID=America/New_York:20191113T193000
DTSTAMP:20260424T174046
CREATED:20190726T190545Z
LAST-MODIFIED:20190726T190545Z
UID:7753-1573666200-1573673400@www.atlcp.org
SUMMARY:DDY Soccer
DESCRIPTION:
URL:https://www.atlcp.org/event/ddy-soccer-3-2019-11-13/
END:VEVENT
BEGIN:VEVENT
DTSTART;TZID=America/New_York:20191113T160000
DTEND;TZID=America/New_York:20191113T170000
DTSTAMP:20260424T174046
CREATED:20190813T221146Z
LAST-MODIFIED:20190813T221146Z
UID:7815-1573660800-1573664400@www.atlcp.org
SUMMARY:Globe Soccer
DESCRIPTION:
URL:https://www.atlcp.org/event/globe-soccer-2019-11-13/
END:VEVENT
BEGIN:VEVENT
DTSTART;TZID=America/New_York:20191112T173000
DTEND;TZID=America/New_York:20191112T193000
DTSTAMP:20260424T174046
CREATED:20190726T190500Z
LAST-MODIFIED:20190726T190500Z
UID:7759-1573579800-1573587000@www.atlcp.org
SUMMARY:DDY Soccer
DESCRIPTION:
URL:https://www.atlcp.org/event/ddy-soccer-2-2019-11-12/
END:VEVENT
BEGIN:VEVENT
DTSTART;TZID=America/New_York:20191111T183000
DTEND;TZID=America/New_York:20191111T193000
DTSTAMP:20260424T174046
CREATED:20190726T190411Z
LAST-MODIFIED:20190726T190411Z
UID:7765-1573497000-1573500600@www.atlcp.org
SUMMARY:DDY Soccer
DESCRIPTION:
URL:https://www.atlcp.org/event/ddy-soccer-2019-11-11/
END:VEVENT
BEGIN:VEVENT
DTSTART;TZID=America/New_York:20191110T110000
DTEND;TZID=America/New_York:20191110T130000
DTSTAMP:20260424T174046
CREATED:20190921T114936Z
LAST-MODIFIED:20191018T195128Z
UID:7915-1573383600-1573390800@www.atlcp.org
SUMMARY:Bday
DESCRIPTION:Led­ford; $175 pd
URL:https://www.atlcp.org/event/bday-338/
END:VEVENT
BEGIN:VEVENT
DTSTART;TZID=America/New_York:20191109T133000
DTEND;TZID=America/New_York:20191109T153000
DTSTAMP:20260424T174046
CREATED:20190929T123239Z
LAST-MODIFIED:20190929T123239Z
UID:7925-1573306200-1573313400@www.atlcp.org
SUMMARY:Bday L5P Tree Climb
DESCRIPTION:Guz­man-King; $200 pd
URL:https://www.atlcp.org/event/bday-l5p-tree-climb/
END:VEVENT
BEGIN:VEVENT
DTSTART;TZID=America/New_York:20191107T173000
DTEND;TZID=America/New_York:20191107T183000
DTSTAMP:20260424T174046
CREATED:20190726T190623Z
LAST-MODIFIED:20190726T190623Z
UID:7746-1573147800-1573151400@www.atlcp.org
SUMMARY:DDY Soccer
DESCRIPTION:
URL:https://www.atlcp.org/event/ddy-soccer-4-2019-11-07/
END:VEVENT
BEGIN:VEVENT
DTSTART;TZID=America/New_York:20191106T173000
DTEND;TZID=America/New_York:20191106T193000
DTSTAMP:20260424T174046
CREATED:20190726T190545Z
LAST-MODIFIED:20190726T190545Z
UID:7752-1573061400-1573068600@www.atlcp.org
SUMMARY:DDY Soccer
DESCRIPTION:
URL:https://www.atlcp.org/event/ddy-soccer-3-2019-11-06/
END:VEVENT
BEGIN:VEVENT
DTSTART;TZID=America/New_York:20191106T160000
DTEND;TZID=America/New_York:20191106T170000
DTSTAMP:20260424T174046
CREATED:20190813T221146Z
LAST-MODIFIED:20190813T221146Z
UID:7814-1573056000-1573059600@www.atlcp.org
SUMMARY:Globe Soccer
DESCRIPTION:
URL:https://www.atlcp.org/event/globe-soccer-2019-11-06/
END:VEVENT
BEGIN:VEVENT
DTSTART;TZID=America/New_York:20191105T173000
DTEND;TZID=America/New_York:20191105T193000
DTSTAMP:20260424T174046
CREATED:20190726T190500Z
LAST-MODIFIED:20190726T190500Z
UID:7758-1572975000-1572982200@www.atlcp.org
SUMMARY:DDY Soccer
DESCRIPTION:
URL:https://www.atlcp.org/event/ddy-soccer-2-2019-11-05/
END:VEVENT
BEGIN:VEVENT
DTSTART;TZID=America/New_York:20191104T183000
DTEND;TZID=America/New_York:20191104T193000
DTSTAMP:20260424T174046
CREATED:20190726T190411Z
LAST-MODIFIED:20190726T190411Z
UID:7764-1572892200-1572895800@www.atlcp.org
SUMMARY:DDY Soccer
DESCRIPTION:
URL:https://www.atlcp.org/event/ddy-soccer-2019-11-04/
END:VEVENT
BEGIN:VEVENT
DTSTART;TZID=America/New_York:20191102T160000
DTEND;TZID=America/New_York:20191102T180000
DTSTAMP:20260424T174046
CREATED:20190911T191704Z
LAST-MODIFIED:20190911T191704Z
UID:7900-1572710400-1572717600@www.atlcp.org
SUMMARY:Bday
DESCRIPTION:Andrin; $175 pd
URL:https://www.atlcp.org/event/bday-335/
END:VEVENT
BEGIN:VEVENT
DTSTART;TZID=America/New_York:20191031T173000
DTEND;TZID=America/New_York:20191031T183000
DTSTAMP:20260424T174046
CREATED:20190726T190623Z
LAST-MODIFIED:20190726T190623Z
UID:7745-1572543000-1572546600@www.atlcp.org
SUMMARY:DDY Soccer
DESCRIPTION:
URL:https://www.atlcp.org/event/ddy-soccer-4-2019-10-31/
END:VEVENT
BEGIN:VEVENT
DTSTART;TZID=America/New_York:20191030T173000
DTEND;TZID=America/New_York:20191030T193000
DTSTAMP:20260424T174046
CREATED:20190726T190545Z
LAST-MODIFIED:20190726T190545Z
UID:7751-1572456600-1572463800@www.atlcp.org
SUMMARY:DDY Soccer
DESCRIPTION:
URL:https://www.atlcp.org/event/ddy-soccer-3-2019-10-30/
END:VEVENT
END:VCALENDAR