BEGIN:VCALENDAR
VERSION:2.0
PRODID:-//Atlanta Contact Point - ECPv6.15.1.1//NONSGML v1.0//EN
CALSCALE:GREGORIAN
METHOD:PUBLISH
X-WR-CALNAME:Atlanta Contact Point
X-ORIGINAL-URL:https://www.atlcp.org
X-WR-CALDESC:Events for Atlanta Contact Point
REFRESH-INTERVAL;VALUE=DURATION:PT1H
X-Robots-Tag:noindex
X-PUBLISHED-TTL:PT1H
BEGIN:VTIMEZONE
TZID:America/New_York
BEGIN:DAYLIGHT
TZOFFSETFROM:-0500
TZOFFSETTO:-0400
TZNAME:EDT
DTSTART:20190310T070000
END:DAYLIGHT
BEGIN:STANDARD
TZOFFSETFROM:-0400
TZOFFSETTO:-0500
TZNAME:EST
DTSTART:20191103T060000
END:STANDARD
END:VTIMEZONE
BEGIN:VEVENT
DTSTART;TZID=America/New_York:20191030T160000
DTEND;TZID=America/New_York:20191030T170000
DTSTAMP:20260424T230011
CREATED:20190813T221146Z
LAST-MODIFIED:20190813T221146Z
UID:7813-1572451200-1572454800@www.atlcp.org
SUMMARY:Globe Soccer
DESCRIPTION:
URL:https://www.atlcp.org/event/globe-soccer-2019-10-30/
END:VEVENT
BEGIN:VEVENT
DTSTART;TZID=America/New_York:20191029T173000
DTEND;TZID=America/New_York:20191029T193000
DTSTAMP:20260424T230011
CREATED:20190726T190500Z
LAST-MODIFIED:20190726T190500Z
UID:7757-1572370200-1572377400@www.atlcp.org
SUMMARY:DDY Soccer
DESCRIPTION:
URL:https://www.atlcp.org/event/ddy-soccer-2-2019-10-29/
END:VEVENT
BEGIN:VEVENT
DTSTART;TZID=America/New_York:20191028T183000
DTEND;TZID=America/New_York:20191028T193000
DTSTAMP:20260424T230011
CREATED:20190726T190411Z
LAST-MODIFIED:20190726T190411Z
UID:7763-1572287400-1572291000@www.atlcp.org
SUMMARY:DDY Soccer
DESCRIPTION:
URL:https://www.atlcp.org/event/ddy-soccer-2019-10-28/
END:VEVENT
BEGIN:VEVENT
DTSTART;TZID=America/New_York:20191027T150000
DTEND;TZID=America/New_York:20191027T163000
DTSTAMP:20260424T230011
CREATED:20191014T154215Z
LAST-MODIFIED:20191014T155407Z
UID:7949-1572188400-1572193800@www.atlcp.org
SUMMARY:Bday OFFSITE
DESCRIPTION:Kim H; $150 pd\, $150 due \nGreat!  Let’s book Sun­day the 27th at 3pm.  Loca­tion will be Byrn­wyck Neigh­bor­hood Swim/tennis grounds:  1000 Byrn­wyck Road\, Brookhaven.  Birth­day  boy is Luke\, who will be 6.  He loves base­ball and soccer.
URL:https://www.atlcp.org/event/bday-offsite-19/
END:VEVENT
BEGIN:VEVENT
DTSTART;TZID=America/New_York:20191027T133000
DTEND;TZID=America/New_York:20191027T153000
DTSTAMP:20260424T230011
CREATED:20191007T182716Z
LAST-MODIFIED:20191007T182716Z
UID:7933-1572183000-1572190200@www.atlcp.org
SUMMARY:Bday
DESCRIPTION:Lopez\, Evans; $175 pd
URL:https://www.atlcp.org/event/bday-340/
END:VEVENT
BEGIN:VEVENT
DTSTART;TZID=America/New_York:20191027T110000
DTEND;TZID=America/New_York:20191027T130000
DTSTAMP:20260424T230011
CREATED:20190829T113351Z
LAST-MODIFIED:20190829T113351Z
UID:7866-1572174000-1572181200@www.atlcp.org
SUMMARY:Bday
DESCRIPTION:Fried­berg; $175 pd
URL:https://www.atlcp.org/event/bday-328/
END:VEVENT
BEGIN:VEVENT
DTSTART;TZID=America/New_York:20191026T163000
DTEND;TZID=America/New_York:20191026T183000
DTSTAMP:20260424T230011
CREATED:20191015T221801Z
LAST-MODIFIED:20191017T121936Z
UID:7954-1572107400-1572114600@www.atlcp.org
SUMMARY:Party Offsite
DESCRIPTION:tra­pani;
URL:https://www.atlcp.org/event/party-offsite-2/
END:VEVENT
BEGIN:VEVENT
DTSTART;TZID=America/New_York:20191026T160000
DTEND;TZID=America/New_York:20191026T180000
DTSTAMP:20260424T230011
CREATED:20190916T141814Z
LAST-MODIFIED:20190916T141814Z
UID:7910-1572105600-1572112800@www.atlcp.org
SUMMARY:Bday
DESCRIPTION:Ailes; $175 pd
URL:https://www.atlcp.org/event/bday-337/
END:VEVENT
BEGIN:VEVENT
DTSTART;TZID=America/New_York:20191024T173000
DTEND;TZID=America/New_York:20191024T183000
DTSTAMP:20260424T230011
CREATED:20190726T190623Z
LAST-MODIFIED:20190726T190623Z
UID:7744-1571938200-1571941800@www.atlcp.org
SUMMARY:DDY Soccer
DESCRIPTION:
URL:https://www.atlcp.org/event/ddy-soccer-4-2019-10-24/
END:VEVENT
BEGIN:VEVENT
DTSTART;TZID=America/New_York:20191023T173000
DTEND;TZID=America/New_York:20191023T193000
DTSTAMP:20260424T230011
CREATED:20190726T190545Z
LAST-MODIFIED:20190726T190545Z
UID:7750-1571851800-1571859000@www.atlcp.org
SUMMARY:DDY Soccer
DESCRIPTION:
URL:https://www.atlcp.org/event/ddy-soccer-3-2019-10-23/
END:VEVENT
BEGIN:VEVENT
DTSTART;TZID=America/New_York:20191023T160000
DTEND;TZID=America/New_York:20191023T170000
DTSTAMP:20260424T230011
CREATED:20190813T221146Z
LAST-MODIFIED:20190813T221146Z
UID:7812-1571846400-1571850000@www.atlcp.org
SUMMARY:Globe Soccer
DESCRIPTION:
URL:https://www.atlcp.org/event/globe-soccer-2019-10-23/
END:VEVENT
BEGIN:VEVENT
DTSTART;TZID=America/New_York:20191022T173000
DTEND;TZID=America/New_York:20191022T193000
DTSTAMP:20260424T230011
CREATED:20190726T190500Z
LAST-MODIFIED:20190726T190500Z
UID:7756-1571765400-1571772600@www.atlcp.org
SUMMARY:DDY Soccer
DESCRIPTION:
URL:https://www.atlcp.org/event/ddy-soccer-2-2019-10-22/
END:VEVENT
BEGIN:VEVENT
DTSTART;TZID=America/New_York:20191021T183000
DTEND;TZID=America/New_York:20191021T193000
DTSTAMP:20260424T230011
CREATED:20190726T190411Z
LAST-MODIFIED:20190726T190411Z
UID:7762-1571682600-1571686200@www.atlcp.org
SUMMARY:DDY Soccer
DESCRIPTION:
URL:https://www.atlcp.org/event/ddy-soccer-2019-10-21/
END:VEVENT
BEGIN:VEVENT
DTSTART;TZID=America/New_York:20191020T133000
DTEND;TZID=America/New_York:20191020T153000
DTSTAMP:20260424T230011
CREATED:20190928T124735Z
LAST-MODIFIED:20190928T124735Z
UID:7921-1571578200-1571585400@www.atlcp.org
SUMMARY:Bday
DESCRIPTION:Ash­er; $175 pd
URL:https://www.atlcp.org/event/bday-339/
END:VEVENT
BEGIN:VEVENT
DTSTART;TZID=America/New_York:20191019T150000
DTEND;TZID=America/New_York:20191019T170000
DTSTAMP:20260424T230011
CREATED:20191017T194523Z
LAST-MODIFIED:20191017T194523Z
UID:7959-1571497200-1571504400@www.atlcp.org
SUMMARY:Bday
DESCRIPTION:Clark
URL:https://www.atlcp.org/event/bday-344/
END:VEVENT
BEGIN:VEVENT
DTSTART;TZID=America/New_York:20191019T120000
DTEND;TZID=America/New_York:20191019T170000
DTSTAMP:20260424T230011
CREATED:20190829T114218Z
LAST-MODIFIED:20190829T114218Z
UID:7869-1571486400-1571504400@www.atlcp.org
SUMMARY:L5P Parade/CP L5P
DESCRIPTION:Tree climb­ing\, Soc­cer\, Dball\, rid­ing toys
URL:https://www.atlcp.org/event/l5p-parade-cp-l5p/
END:VEVENT
BEGIN:VEVENT
DTSTART;TZID=America/New_York:20191017T173000
DTEND;TZID=America/New_York:20191017T183000
DTSTAMP:20260424T230011
CREATED:20190726T190623Z
LAST-MODIFIED:20190726T190623Z
UID:7743-1571333400-1571337000@www.atlcp.org
SUMMARY:DDY Soccer
DESCRIPTION:
URL:https://www.atlcp.org/event/ddy-soccer-4-2019-10-17/
END:VEVENT
BEGIN:VEVENT
DTSTART;TZID=America/New_York:20191016T173000
DTEND;TZID=America/New_York:20191016T193000
DTSTAMP:20260424T230011
CREATED:20190726T190545Z
LAST-MODIFIED:20190726T190545Z
UID:7749-1571247000-1571254200@www.atlcp.org
SUMMARY:DDY Soccer
DESCRIPTION:
URL:https://www.atlcp.org/event/ddy-soccer-3-2019-10-16/
END:VEVENT
BEGIN:VEVENT
DTSTART;TZID=America/New_York:20191016T160000
DTEND;TZID=America/New_York:20191016T170000
DTSTAMP:20260424T230011
CREATED:20190813T221146Z
LAST-MODIFIED:20190813T221146Z
UID:7811-1571241600-1571245200@www.atlcp.org
SUMMARY:Globe Soccer
DESCRIPTION:
URL:https://www.atlcp.org/event/globe-soccer-2019-10-16/
END:VEVENT
BEGIN:VEVENT
DTSTART;TZID=America/New_York:20191015T173000
DTEND;TZID=America/New_York:20191015T193000
DTSTAMP:20260424T230011
CREATED:20190726T190500Z
LAST-MODIFIED:20190726T190500Z
UID:7755-1571160600-1571167800@www.atlcp.org
SUMMARY:DDY Soccer
DESCRIPTION:
URL:https://www.atlcp.org/event/ddy-soccer-2-2019-10-15/
END:VEVENT
BEGIN:VEVENT
DTSTART;TZID=America/New_York:20191014T183000
DTEND;TZID=America/New_York:20191014T193000
DTSTAMP:20260424T230011
CREATED:20190726T190411Z
LAST-MODIFIED:20190726T190411Z
UID:7761-1571077800-1571081400@www.atlcp.org
SUMMARY:DDY Soccer
DESCRIPTION:
URL:https://www.atlcp.org/event/ddy-soccer-2019-10-14/
END:VEVENT
BEGIN:VEVENT
DTSTART;TZID=America/New_York:20191013T100000
DTEND;TZID=America/New_York:20191013T120000
DTSTAMP:20260424T230011
CREATED:20191013T124212Z
LAST-MODIFIED:20191013T124212Z
UID:7947-1570960800-1570968000@www.atlcp.org
SUMMARY:Bday
DESCRIPTION:Granik; $350 pd
URL:https://www.atlcp.org/event/bday-342/
END:VEVENT
BEGIN:VEVENT
DTSTART;TZID=America/New_York:20191010T173000
DTEND;TZID=America/New_York:20191010T183000
DTSTAMP:20260424T230011
CREATED:20190726T190623Z
LAST-MODIFIED:20190726T190623Z
UID:7740-1570728600-1570732200@www.atlcp.org
SUMMARY:DDY Soccer
DESCRIPTION:
URL:https://www.atlcp.org/event/ddy-soccer-4-2019-10-10/
END:VEVENT
BEGIN:VEVENT
DTSTART;TZID=America/New_York:20191009T173000
DTEND;TZID=America/New_York:20191009T193000
DTSTAMP:20260424T230011
CREATED:20190726T190545Z
LAST-MODIFIED:20190726T190545Z
UID:7728-1570642200-1570649400@www.atlcp.org
SUMMARY:DDY Soccer
DESCRIPTION:
URL:https://www.atlcp.org/event/ddy-soccer-3-2019-10-09/
END:VEVENT
BEGIN:VEVENT
DTSTART;TZID=America/New_York:20191009T160000
DTEND;TZID=America/New_York:20191009T170000
DTSTAMP:20260424T230011
CREATED:20190813T221146Z
LAST-MODIFIED:20190813T221146Z
UID:7810-1570636800-1570640400@www.atlcp.org
SUMMARY:Globe Soccer
DESCRIPTION:
URL:https://www.atlcp.org/event/globe-soccer-2019-10-09/
END:VEVENT
BEGIN:VEVENT
DTSTART;TZID=America/New_York:20191008T173000
DTEND;TZID=America/New_York:20191008T193000
DTSTAMP:20260424T230011
CREATED:20190726T190500Z
LAST-MODIFIED:20190726T190500Z
UID:7716-1570555800-1570563000@www.atlcp.org
SUMMARY:DDY Soccer
DESCRIPTION:
URL:https://www.atlcp.org/event/ddy-soccer-2-2019-10-08/
END:VEVENT
BEGIN:VEVENT
DTSTART;TZID=America/New_York:20191007T183000
DTEND;TZID=America/New_York:20191007T193000
DTSTAMP:20260424T230011
CREATED:20190726T190411Z
LAST-MODIFIED:20190726T190411Z
UID:7704-1570473000-1570476600@www.atlcp.org
SUMMARY:DDY Soccer
DESCRIPTION:
URL:https://www.atlcp.org/event/ddy-soccer-2019-10-07/
END:VEVENT
BEGIN:VEVENT
DTSTART;TZID=America/New_York:20191006T133000
DTEND;TZID=America/New_York:20191006T153000
DTSTAMP:20260424T230011
CREATED:20190928T124809Z
LAST-MODIFIED:20190928T124809Z
UID:7923-1570368600-1570375800@www.atlcp.org
SUMMARY:Bday L5P
DESCRIPTION:Katie;
URL:https://www.atlcp.org/event/bday-l5p-3/
END:VEVENT
BEGIN:VEVENT
DTSTART;TZID=America/New_York:20191006T133000
DTEND;TZID=America/New_York:20191006T153000
DTSTAMP:20260424T230011
CREATED:20190910T004751Z
LAST-MODIFIED:20190910T004751Z
UID:7897-1570368600-1570375800@www.atlcp.org
SUMMARY:Bday
DESCRIPTION:Hrenko: $175 pd
URL:https://www.atlcp.org/event/bday-334/
END:VEVENT
BEGIN:VEVENT
DTSTART;TZID=America/New_York:20191003T173000
DTEND;TZID=America/New_York:20191003T183000
DTSTAMP:20260424T230011
CREATED:20190726T190623Z
LAST-MODIFIED:20190726T190623Z
UID:7739-1570123800-1570127400@www.atlcp.org
SUMMARY:DDY Soccer
DESCRIPTION:
URL:https://www.atlcp.org/event/ddy-soccer-4-2019-10-03/
END:VEVENT
END:VCALENDAR