BEGIN:VCALENDAR
VERSION:2.0
PRODID:-//Atlanta Contact Point - ECPv6.15.1.1//NONSGML v1.0//EN
CALSCALE:GREGORIAN
METHOD:PUBLISH
X-WR-CALNAME:Atlanta Contact Point
X-ORIGINAL-URL:https://www.atlcp.org
X-WR-CALDESC:Events for Atlanta Contact Point
REFRESH-INTERVAL;VALUE=DURATION:PT1H
X-Robots-Tag:noindex
X-PUBLISHED-TTL:PT1H
BEGIN:VTIMEZONE
TZID:America/New_York
BEGIN:DAYLIGHT
TZOFFSETFROM:-0500
TZOFFSETTO:-0400
TZNAME:EDT
DTSTART:20190310T070000
END:DAYLIGHT
BEGIN:STANDARD
TZOFFSETFROM:-0400
TZOFFSETTO:-0500
TZNAME:EST
DTSTART:20191103T060000
END:STANDARD
END:VTIMEZONE
BEGIN:VEVENT
DTSTART;TZID=America/New_York:20190912T173000
DTEND;TZID=America/New_York:20190912T183000
DTSTAMP:20260425T095035
CREATED:20190726T190623Z
LAST-MODIFIED:20190726T190623Z
UID:7736-1568309400-1568313000@www.atlcp.org
SUMMARY:DDY Soccer
DESCRIPTION:
URL:https://www.atlcp.org/event/ddy-soccer-4-2019-09-12/
END:VEVENT
BEGIN:VEVENT
DTSTART;TZID=America/New_York:20190911T173000
DTEND;TZID=America/New_York:20190911T193000
DTSTAMP:20260425T095035
CREATED:20190726T190545Z
LAST-MODIFIED:20190726T190545Z
UID:7724-1568223000-1568230200@www.atlcp.org
SUMMARY:DDY Soccer
DESCRIPTION:
URL:https://www.atlcp.org/event/ddy-soccer-3-2019-09-11/
END:VEVENT
BEGIN:VEVENT
DTSTART;TZID=America/New_York:20190911T160000
DTEND;TZID=America/New_York:20190911T170000
DTSTAMP:20260425T095035
CREATED:20190813T221146Z
LAST-MODIFIED:20190813T221146Z
UID:7806-1568217600-1568221200@www.atlcp.org
SUMMARY:Globe Soccer
DESCRIPTION:
URL:https://www.atlcp.org/event/globe-soccer-2019-09-11/
END:VEVENT
BEGIN:VEVENT
DTSTART;TZID=America/New_York:20190910T173000
DTEND;TZID=America/New_York:20190910T193000
DTSTAMP:20260425T095035
CREATED:20190726T190500Z
LAST-MODIFIED:20190726T190500Z
UID:7712-1568136600-1568143800@www.atlcp.org
SUMMARY:DDY Soccer
DESCRIPTION:
URL:https://www.atlcp.org/event/ddy-soccer-2-2019-09-10/
END:VEVENT
BEGIN:VEVENT
DTSTART;TZID=America/New_York:20190909T183000
DTEND;TZID=America/New_York:20190909T193000
DTSTAMP:20260425T095035
CREATED:20190726T190411Z
LAST-MODIFIED:20190726T190411Z
UID:7700-1568053800-1568057400@www.atlcp.org
SUMMARY:DDY Soccer
DESCRIPTION:
URL:https://www.atlcp.org/event/ddy-soccer-2019-09-09/
END:VEVENT
BEGIN:VEVENT
DTSTART;TZID=America/New_York:20190908T160000
DTEND;TZID=America/New_York:20190908T180000
DTSTAMP:20260425T095035
CREATED:20190821T220649Z
LAST-MODIFIED:20190824T125016Z
UID:7846-1567958400-1567965600@www.atlcp.org
SUMMARY:Bday L5P
DESCRIPTION:Goy­tia; 404–308-4063; $175 pd
URL:https://www.atlcp.org/event/bday-325/
END:VEVENT
BEGIN:VEVENT
DTSTART;TZID=America/New_York:20190907T080000
DTEND;TZID=America/New_York:20190907T170000
DTSTAMP:20260425T095035
CREATED:20190429T121616Z
LAST-MODIFIED:20190429T121616Z
UID:7530-1567843200-1567875600@www.atlcp.org
SUMMARY:SoccerCON
DESCRIPTION:
URL:https://www.atlcp.org/event/soccercon/
END:VEVENT
BEGIN:VEVENT
DTSTART;TZID=America/New_York:20190906T170000
DTEND;TZID=America/New_York:20190906T183000
DTSTAMP:20260425T095035
CREATED:20190825T235352Z
LAST-MODIFIED:20190825T235352Z
UID:7856-1567789200-1567794600@www.atlcp.org
SUMMARY:Bday OFFSITE
DESCRIPTION:Grantham; $150 pd \n9‑Year Old Birth­day Par­ty — esti­mat­ed 10–15 kids. \nBirth­day child is Jace Grantham. \nPar­ty date is Fri­day Sep­tem­ber 6 at 5PM to 6:30PM.\nLoca­tion is Noble Park\, Atlanta Ga 30306\n \nCall or email with more details and any ques­tions you have for us.  Thanks.\n \nJay & Amy Grantham\n(919) 796‑2168\n(336) 420‑1904
URL:https://www.atlcp.org/event/bday-offsite-18/
END:VEVENT
BEGIN:VEVENT
DTSTART;TZID=America/New_York:20190905T173000
DTEND;TZID=America/New_York:20190905T183000
DTSTAMP:20260425T095035
CREATED:20190726T190623Z
LAST-MODIFIED:20190726T190623Z
UID:7735-1567704600-1567708200@www.atlcp.org
SUMMARY:DDY Soccer
DESCRIPTION:
URL:https://www.atlcp.org/event/ddy-soccer-4-2019-09-05/
END:VEVENT
BEGIN:VEVENT
DTSTART;TZID=America/New_York:20190904T173000
DTEND;TZID=America/New_York:20190904T193000
DTSTAMP:20260425T095035
CREATED:20190726T190545Z
LAST-MODIFIED:20190726T190545Z
UID:7723-1567618200-1567625400@www.atlcp.org
SUMMARY:DDY Soccer
DESCRIPTION:
URL:https://www.atlcp.org/event/ddy-soccer-3-2019-09-04/
END:VEVENT
BEGIN:VEVENT
DTSTART;TZID=America/New_York:20190904T160000
DTEND;TZID=America/New_York:20190904T170000
DTSTAMP:20260425T095035
CREATED:20190813T221146Z
LAST-MODIFIED:20190813T221146Z
UID:7805-1567612800-1567616400@www.atlcp.org
SUMMARY:Globe Soccer
DESCRIPTION:
URL:https://www.atlcp.org/event/globe-soccer-2019-09-04/
END:VEVENT
BEGIN:VEVENT
DTSTART;TZID=America/New_York:20190903T173000
DTEND;TZID=America/New_York:20190903T193000
DTSTAMP:20260425T095035
CREATED:20190726T190500Z
LAST-MODIFIED:20190726T190500Z
UID:7711-1567531800-1567539000@www.atlcp.org
SUMMARY:DDY Soccer
DESCRIPTION:
URL:https://www.atlcp.org/event/ddy-soccer-2-2019-09-03/
END:VEVENT
BEGIN:VEVENT
DTSTART;TZID=America/New_York:20190903T110000
DTEND;TZID=America/New_York:20190903T130000
DTSTAMP:20260425T095035
CREATED:20190903T143302Z
LAST-MODIFIED:20190903T143302Z
UID:7877-1567508400-1567515600@www.atlcp.org
SUMMARY:Bday
DESCRIPTION:Todd; $50 pd
URL:https://www.atlcp.org/event/bday-329/
END:VEVENT
BEGIN:VEVENT
DTSTART;TZID=America/New_York:20190902T183000
DTEND;TZID=America/New_York:20190902T193000
DTSTAMP:20260425T095035
CREATED:20190726T190411Z
LAST-MODIFIED:20190726T190411Z
UID:7699-1567449000-1567452600@www.atlcp.org
SUMMARY:DDY Soccer
DESCRIPTION:
URL:https://www.atlcp.org/event/ddy-soccer-2019-09-02/
END:VEVENT
BEGIN:VEVENT
DTSTART;TZID=America/New_York:20190831T160000
DTEND;TZID=America/New_York:20190831T180000
DTSTAMP:20260425T095035
CREATED:20190811T131716Z
LAST-MODIFIED:20190811T131716Z
UID:7796-1567267200-1567274400@www.atlcp.org
SUMMARY:Bday
DESCRIPTION:Grif­fin; $175 pd
URL:https://www.atlcp.org/event/bday-322/
END:VEVENT
BEGIN:VEVENT
DTSTART;TZID=America/New_York:20190829T173000
DTEND;TZID=America/New_York:20190829T183000
DTSTAMP:20260425T095035
CREATED:20190726T190623Z
LAST-MODIFIED:20190726T190623Z
UID:7734-1567099800-1567103400@www.atlcp.org
SUMMARY:DDY Soccer
DESCRIPTION:
URL:https://www.atlcp.org/event/ddy-soccer-4-2019-08-29/
END:VEVENT
BEGIN:VEVENT
DTSTART;TZID=America/New_York:20190828T173000
DTEND;TZID=America/New_York:20190828T193000
DTSTAMP:20260425T095035
CREATED:20190726T190545Z
LAST-MODIFIED:20190726T190545Z
UID:7722-1567013400-1567020600@www.atlcp.org
SUMMARY:DDY Soccer
DESCRIPTION:
URL:https://www.atlcp.org/event/ddy-soccer-3-2019-08-28/
END:VEVENT
BEGIN:VEVENT
DTSTART;TZID=America/New_York:20190828T160000
DTEND;TZID=America/New_York:20190828T170000
DTSTAMP:20260425T095035
CREATED:20190813T221146Z
LAST-MODIFIED:20190813T221146Z
UID:7804-1567008000-1567011600@www.atlcp.org
SUMMARY:Globe Soccer
DESCRIPTION:
URL:https://www.atlcp.org/event/globe-soccer-2019-08-28/
END:VEVENT
BEGIN:VEVENT
DTSTART;TZID=America/New_York:20190827T173000
DTEND;TZID=America/New_York:20190827T193000
DTSTAMP:20260425T095035
CREATED:20190726T190500Z
LAST-MODIFIED:20190726T190500Z
UID:7710-1566927000-1566934200@www.atlcp.org
SUMMARY:DDY Soccer
DESCRIPTION:
URL:https://www.atlcp.org/event/ddy-soccer-2-2019-08-27/
END:VEVENT
BEGIN:VEVENT
DTSTART;TZID=America/New_York:20190826T183000
DTEND;TZID=America/New_York:20190826T193000
DTSTAMP:20260425T095035
CREATED:20190726T190411Z
LAST-MODIFIED:20190726T190411Z
UID:7698-1566844200-1566847800@www.atlcp.org
SUMMARY:DDY Soccer
DESCRIPTION:
URL:https://www.atlcp.org/event/ddy-soccer-2019-08-26/
END:VEVENT
BEGIN:VEVENT
DTSTART;TZID=America/New_York:20190824T160000
DTEND;TZID=America/New_York:20190824T170000
DTSTAMP:20260425T095035
CREATED:20190727T233717Z
LAST-MODIFIED:20190727T233717Z
UID:7766-1566662400-1566666000@www.atlcp.org
SUMMARY:Eva/Aria
DESCRIPTION:
URL:https://www.atlcp.org/event/eva-aria/
END:VEVENT
BEGIN:VEVENT
DTSTART;TZID=America/New_York:20190824T133000
DTEND;TZID=America/New_York:20190824T153000
DTSTAMP:20260425T095035
CREATED:20190726T191349Z
LAST-MODIFIED:20190801T185328Z
UID:7741-1566653400-1566660600@www.atlcp.org
SUMMARY:Bday Tree Climbing
DESCRIPTION:Reese; $200 pd
URL:https://www.atlcp.org/event/bday-tree-climbing-2/
END:VEVENT
BEGIN:VEVENT
DTSTART;TZID=America/New_York:20190824T110000
DTEND;TZID=America/New_York:20190824T130000
DTSTAMP:20260425T095035
CREATED:20190716T115756Z
LAST-MODIFIED:20190716T115756Z
UID:7664-1566644400-1566651600@www.atlcp.org
SUMMARY:Bday
DESCRIPTION:Brew­ster; $175 pd
URL:https://www.atlcp.org/event/bday-313/
END:VEVENT
BEGIN:VEVENT
DTSTART;TZID=America/New_York:20190822T173000
DTEND;TZID=America/New_York:20190822T183000
DTSTAMP:20260425T095035
CREATED:20190726T190623Z
LAST-MODIFIED:20190726T190623Z
UID:7733-1566495000-1566498600@www.atlcp.org
SUMMARY:DDY Soccer
DESCRIPTION:
URL:https://www.atlcp.org/event/ddy-soccer-4-2019-08-22/
END:VEVENT
BEGIN:VEVENT
DTSTART;TZID=America/New_York:20190821T173000
DTEND;TZID=America/New_York:20190821T193000
DTSTAMP:20260425T095035
CREATED:20190726T190545Z
LAST-MODIFIED:20190726T190545Z
UID:7721-1566408600-1566415800@www.atlcp.org
SUMMARY:DDY Soccer
DESCRIPTION:
URL:https://www.atlcp.org/event/ddy-soccer-3-2019-08-21/
END:VEVENT
BEGIN:VEVENT
DTSTART;TZID=America/New_York:20190821T160000
DTEND;TZID=America/New_York:20190821T170000
DTSTAMP:20260425T095035
CREATED:20190813T221146Z
LAST-MODIFIED:20190813T221146Z
UID:7803-1566403200-1566406800@www.atlcp.org
SUMMARY:Globe Soccer
DESCRIPTION:
URL:https://www.atlcp.org/event/globe-soccer-2019-08-21/
END:VEVENT
BEGIN:VEVENT
DTSTART;TZID=America/New_York:20190820T173000
DTEND;TZID=America/New_York:20190820T193000
DTSTAMP:20260425T095035
CREATED:20190726T190500Z
LAST-MODIFIED:20190726T190500Z
UID:7709-1566322200-1566329400@www.atlcp.org
SUMMARY:DDY Soccer
DESCRIPTION:
URL:https://www.atlcp.org/event/ddy-soccer-2-2019-08-20/
END:VEVENT
BEGIN:VEVENT
DTSTART;TZID=America/New_York:20190819T183000
DTEND;TZID=America/New_York:20190819T193000
DTSTAMP:20260425T095035
CREATED:20190726T190411Z
LAST-MODIFIED:20190726T190411Z
UID:7697-1566239400-1566243000@www.atlcp.org
SUMMARY:DDY Soccer
DESCRIPTION:
URL:https://www.atlcp.org/event/ddy-soccer-2019-08-19/
END:VEVENT
BEGIN:VEVENT
DTSTART;TZID=America/New_York:20190818T133000
DTEND;TZID=America/New_York:20190818T163000
DTSTAMP:20260425T095035
CREATED:20190729T113853Z
LAST-MODIFIED:20190729T190023Z
UID:7768-1566135000-1566145800@www.atlcp.org
SUMMARY:Bday
DESCRIPTION:Alla; Gaga Par­ty; $225 pd\, $225 due
URL:https://www.atlcp.org/event/bday-315/
END:VEVENT
BEGIN:VEVENT
DTSTART;TZID=America/New_York:20190817T160000
DTEND;TZID=America/New_York:20190817T180000
DTSTAMP:20260425T095035
CREATED:20190726T132914Z
LAST-MODIFIED:20190726T132914Z
UID:7691-1566057600-1566064800@www.atlcp.org
SUMMARY:Bday
DESCRIPTION:Wal­lace; Gar­rett; auction
URL:https://www.atlcp.org/event/bday-314/
END:VEVENT
END:VCALENDAR