BEGIN:VCALENDAR
VERSION:2.0
PRODID:-//Atlanta Contact Point - ECPv6.15.1.1//NONSGML v1.0//EN
CALSCALE:GREGORIAN
METHOD:PUBLISH
X-WR-CALNAME:Atlanta Contact Point
X-ORIGINAL-URL:https://www.atlcp.org
X-WR-CALDESC:Events for Atlanta Contact Point
REFRESH-INTERVAL;VALUE=DURATION:PT1H
X-Robots-Tag:noindex
X-PUBLISHED-TTL:PT1H
BEGIN:VTIMEZONE
TZID:America/New_York
BEGIN:DAYLIGHT
TZOFFSETFROM:-0500
TZOFFSETTO:-0400
TZNAME:EDT
DTSTART:20200308T070000
END:DAYLIGHT
BEGIN:STANDARD
TZOFFSETFROM:-0400
TZOFFSETTO:-0500
TZNAME:EST
DTSTART:20201101T060000
END:STANDARD
END:VTIMEZONE
BEGIN:VEVENT
DTSTART;TZID=America/New_York:20200513T160000
DTEND;TZID=America/New_York:20200513T170000
DTSTAMP:20260423T154352
CREATED:20200125T171031Z
LAST-MODIFIED:20200125T171031Z
UID:8264-1589385600-1589389200@www.atlcp.org
SUMMARY:Globe Soccer
DESCRIPTION:
URL:https://www.atlcp.org/event/globe-soccer-2-2020-05-13/
END:VEVENT
BEGIN:VEVENT
DTSTART;TZID=America/New_York:20200512T173000
DTEND;TZID=America/New_York:20200512T193000
DTSTAMP:20260423T154352
CREATED:20200125T171242Z
LAST-MODIFIED:20200125T171242Z
UID:8247-1589304600-1589311800@www.atlcp.org
SUMMARY:DDY Soccer
DESCRIPTION:
URL:https://www.atlcp.org/event/ddy-soccer-6-2020-05-12/
END:VEVENT
BEGIN:VEVENT
DTSTART;TZID=America/New_York:20200511T063000
DTEND;TZID=America/New_York:20200511T193000
DTSTAMP:20260423T154352
CREATED:20200125T171157Z
LAST-MODIFIED:20200125T171157Z
UID:8254-1589178600-1589225400@www.atlcp.org
SUMMARY:DDY Soccer
DESCRIPTION:
URL:https://www.atlcp.org/event/ddy-soccer-5-2020-05-11/
END:VEVENT
BEGIN:VEVENT
DTSTART;TZID=America/New_York:20200507T173000
DTEND;TZID=America/New_York:20200507T183000
DTSTAMP:20260423T154352
CREATED:20200125T171530Z
LAST-MODIFIED:20200125T171530Z
UID:8232-1588872600-1588876200@www.atlcp.org
SUMMARY:DDY Soccer
DESCRIPTION:
URL:https://www.atlcp.org/event/ddy-soccer-8-2020-05-07/
END:VEVENT
BEGIN:VEVENT
DTSTART;TZID=America/New_York:20200506T173000
DTEND;TZID=America/New_York:20200506T193000
DTSTAMP:20260423T154352
CREATED:20200219T221825Z
LAST-MODIFIED:20200219T221825Z
UID:8324-1588786200-1588793400@www.atlcp.org
SUMMARY:DDY Soccer
DESCRIPTION:
URL:https://www.atlcp.org/event/ddy-soccer-9-2020-05-06/
END:VEVENT
BEGIN:VEVENT
DTSTART;TZID=America/New_York:20200506T173000
DTEND;TZID=America/New_York:20200506T193000
DTSTAMP:20260423T154352
CREATED:20200125T171347Z
LAST-MODIFIED:20200125T171347Z
UID:8340-1588786200-1588793400@www.atlcp.org
SUMMARY:DDY Soccer
DESCRIPTION:
URL:https://www.atlcp.org/event/ddy-soccer-7-2020-05-06/
END:VEVENT
BEGIN:VEVENT
DTSTART;TZID=America/New_York:20200506T160000
DTEND;TZID=America/New_York:20200506T170000
DTSTAMP:20260423T154352
CREATED:20200125T171031Z
LAST-MODIFIED:20200125T171031Z
UID:8263-1588780800-1588784400@www.atlcp.org
SUMMARY:Globe Soccer
DESCRIPTION:
URL:https://www.atlcp.org/event/globe-soccer-2-2020-05-06/
END:VEVENT
BEGIN:VEVENT
DTSTART;TZID=America/New_York:20200505T173000
DTEND;TZID=America/New_York:20200505T193000
DTSTAMP:20260423T154352
CREATED:20200125T171242Z
LAST-MODIFIED:20200125T171242Z
UID:8246-1588699800-1588707000@www.atlcp.org
SUMMARY:DDY Soccer
DESCRIPTION:
URL:https://www.atlcp.org/event/ddy-soccer-6-2020-05-05/
END:VEVENT
BEGIN:VEVENT
DTSTART;TZID=America/New_York:20200504T063000
DTEND;TZID=America/New_York:20200504T193000
DTSTAMP:20260423T154352
CREATED:20200125T171157Z
LAST-MODIFIED:20200125T171157Z
UID:8253-1588573800-1588620600@www.atlcp.org
SUMMARY:DDY Soccer
DESCRIPTION:
URL:https://www.atlcp.org/event/ddy-soccer-5-2020-05-04/
END:VEVENT
BEGIN:VEVENT
DTSTART;TZID=America/New_York:20200502T150000
DTEND;TZID=America/New_York:20200502T180000
DTSTAMP:20260423T154352
CREATED:20200310T151710Z
LAST-MODIFIED:20200310T151710Z
UID:8391-1588431600-1588442400@www.atlcp.org
SUMMARY:Jamboree
DESCRIPTION:Wash­ing­ton Park
URL:https://www.atlcp.org/event/jamboree/
END:VEVENT
BEGIN:VEVENT
DTSTART;TZID=America/New_York:20200430T173000
DTEND;TZID=America/New_York:20200430T183000
DTSTAMP:20260423T154352
CREATED:20200125T171530Z
LAST-MODIFIED:20200125T171530Z
UID:8231-1588267800-1588271400@www.atlcp.org
SUMMARY:DDY Soccer
DESCRIPTION:
URL:https://www.atlcp.org/event/ddy-soccer-8-2020-04-30/
END:VEVENT
BEGIN:VEVENT
DTSTART;TZID=America/New_York:20200429T173000
DTEND;TZID=America/New_York:20200429T193000
DTSTAMP:20260423T154352
CREATED:20200219T221825Z
LAST-MODIFIED:20200219T221825Z
UID:8323-1588181400-1588188600@www.atlcp.org
SUMMARY:DDY Soccer
DESCRIPTION:
URL:https://www.atlcp.org/event/ddy-soccer-9-2020-04-29/
END:VEVENT
BEGIN:VEVENT
DTSTART;TZID=America/New_York:20200429T173000
DTEND;TZID=America/New_York:20200429T193000
DTSTAMP:20260423T154352
CREATED:20200125T171347Z
LAST-MODIFIED:20200125T171347Z
UID:8339-1588181400-1588188600@www.atlcp.org
SUMMARY:DDY Soccer
DESCRIPTION:
URL:https://www.atlcp.org/event/ddy-soccer-7-2020-04-29/
END:VEVENT
BEGIN:VEVENT
DTSTART;TZID=America/New_York:20200429T160000
DTEND;TZID=America/New_York:20200429T170000
DTSTAMP:20260423T154352
CREATED:20200125T171031Z
LAST-MODIFIED:20200125T171031Z
UID:8262-1588176000-1588179600@www.atlcp.org
SUMMARY:Globe Soccer
DESCRIPTION:
URL:https://www.atlcp.org/event/globe-soccer-2-2020-04-29/
END:VEVENT
BEGIN:VEVENT
DTSTART;TZID=America/New_York:20200428T173000
DTEND;TZID=America/New_York:20200428T193000
DTSTAMP:20260423T154352
CREATED:20200125T171242Z
LAST-MODIFIED:20200125T171242Z
UID:8245-1588095000-1588102200@www.atlcp.org
SUMMARY:DDY Soccer
DESCRIPTION:
URL:https://www.atlcp.org/event/ddy-soccer-6-2020-04-28/
END:VEVENT
BEGIN:VEVENT
DTSTART;TZID=America/New_York:20200427T063000
DTEND;TZID=America/New_York:20200427T193000
DTSTAMP:20260423T154352
CREATED:20200125T171157Z
LAST-MODIFIED:20200125T171157Z
UID:8252-1587969000-1588015800@www.atlcp.org
SUMMARY:DDY Soccer
DESCRIPTION:
URL:https://www.atlcp.org/event/ddy-soccer-5-2020-04-27/
END:VEVENT
BEGIN:VEVENT
DTSTART;TZID=America/New_York:20200423T173000
DTEND;TZID=America/New_York:20200423T183000
DTSTAMP:20260423T154352
CREATED:20200125T171530Z
LAST-MODIFIED:20200125T171530Z
UID:8230-1587663000-1587666600@www.atlcp.org
SUMMARY:DDY Soccer
DESCRIPTION:
URL:https://www.atlcp.org/event/ddy-soccer-8-2020-04-23/
END:VEVENT
BEGIN:VEVENT
DTSTART;TZID=America/New_York:20200422T173000
DTEND;TZID=America/New_York:20200422T193000
DTSTAMP:20260423T154352
CREATED:20200219T221825Z
LAST-MODIFIED:20200219T221825Z
UID:8322-1587576600-1587583800@www.atlcp.org
SUMMARY:DDY Soccer
DESCRIPTION:
URL:https://www.atlcp.org/event/ddy-soccer-9-2020-04-22/
END:VEVENT
BEGIN:VEVENT
DTSTART;TZID=America/New_York:20200422T173000
DTEND;TZID=America/New_York:20200422T193000
DTSTAMP:20260423T154352
CREATED:20200125T171347Z
LAST-MODIFIED:20200125T171347Z
UID:8338-1587576600-1587583800@www.atlcp.org
SUMMARY:DDY Soccer
DESCRIPTION:
URL:https://www.atlcp.org/event/ddy-soccer-7-2020-04-22/
END:VEVENT
BEGIN:VEVENT
DTSTART;TZID=America/New_York:20200422T160000
DTEND;TZID=America/New_York:20200422T170000
DTSTAMP:20260423T154352
CREATED:20200125T171031Z
LAST-MODIFIED:20200125T171031Z
UID:8261-1587571200-1587574800@www.atlcp.org
SUMMARY:Globe Soccer
DESCRIPTION:
URL:https://www.atlcp.org/event/globe-soccer-2-2020-04-22/
END:VEVENT
BEGIN:VEVENT
DTSTART;TZID=America/New_York:20200421T173000
DTEND;TZID=America/New_York:20200421T193000
DTSTAMP:20260423T154352
CREATED:20200125T171242Z
LAST-MODIFIED:20200125T171242Z
UID:8244-1587490200-1587497400@www.atlcp.org
SUMMARY:DDY Soccer
DESCRIPTION:
URL:https://www.atlcp.org/event/ddy-soccer-6-2020-04-21/
END:VEVENT
BEGIN:VEVENT
DTSTART;TZID=America/New_York:20200420T063000
DTEND;TZID=America/New_York:20200420T193000
DTSTAMP:20260423T154352
CREATED:20200125T171157Z
LAST-MODIFIED:20200125T171157Z
UID:8251-1587364200-1587411000@www.atlcp.org
SUMMARY:DDY Soccer
DESCRIPTION:
URL:https://www.atlcp.org/event/ddy-soccer-5-2020-04-20/
END:VEVENT
BEGIN:VEVENT
DTSTART;TZID=America/New_York:20200416T173000
DTEND;TZID=America/New_York:20200416T183000
DTSTAMP:20260423T154352
CREATED:20200125T171530Z
LAST-MODIFIED:20200125T171530Z
UID:8229-1587058200-1587061800@www.atlcp.org
SUMMARY:DDY Soccer
DESCRIPTION:
URL:https://www.atlcp.org/event/ddy-soccer-8-2020-04-16/
END:VEVENT
BEGIN:VEVENT
DTSTART;TZID=America/New_York:20200415T173000
DTEND;TZID=America/New_York:20200415T193000
DTSTAMP:20260423T154352
CREATED:20200219T221825Z
LAST-MODIFIED:20200219T221825Z
UID:8321-1586971800-1586979000@www.atlcp.org
SUMMARY:DDY Soccer
DESCRIPTION:
URL:https://www.atlcp.org/event/ddy-soccer-9-2020-04-15/
END:VEVENT
BEGIN:VEVENT
DTSTART;TZID=America/New_York:20200415T173000
DTEND;TZID=America/New_York:20200415T193000
DTSTAMP:20260423T154352
CREATED:20200125T171347Z
LAST-MODIFIED:20200125T171347Z
UID:8337-1586971800-1586979000@www.atlcp.org
SUMMARY:DDY Soccer
DESCRIPTION:
URL:https://www.atlcp.org/event/ddy-soccer-7-2020-04-15/
END:VEVENT
BEGIN:VEVENT
DTSTART;TZID=America/New_York:20200415T160000
DTEND;TZID=America/New_York:20200415T170000
DTSTAMP:20260423T154352
CREATED:20200125T171031Z
LAST-MODIFIED:20200125T171031Z
UID:8260-1586966400-1586970000@www.atlcp.org
SUMMARY:Globe Soccer
DESCRIPTION:
URL:https://www.atlcp.org/event/globe-soccer-2-2020-04-15/
END:VEVENT
BEGIN:VEVENT
DTSTART;TZID=America/New_York:20200414T173000
DTEND;TZID=America/New_York:20200414T193000
DTSTAMP:20260423T154352
CREATED:20200125T171242Z
LAST-MODIFIED:20200125T171242Z
UID:8243-1586885400-1586892600@www.atlcp.org
SUMMARY:DDY Soccer
DESCRIPTION:
URL:https://www.atlcp.org/event/ddy-soccer-6-2020-04-14/
END:VEVENT
BEGIN:VEVENT
DTSTART;TZID=America/New_York:20200413T063000
DTEND;TZID=America/New_York:20200413T193000
DTSTAMP:20260423T154352
CREATED:20200125T171157Z
LAST-MODIFIED:20200125T171157Z
UID:8250-1586759400-1586806200@www.atlcp.org
SUMMARY:DDY Soccer
DESCRIPTION:
URL:https://www.atlcp.org/event/ddy-soccer-5-2020-04-13/
END:VEVENT
BEGIN:VEVENT
DTSTART;TZID=America/New_York:20200409T173000
DTEND;TZID=America/New_York:20200409T183000
DTSTAMP:20260423T154352
CREATED:20200125T171530Z
LAST-MODIFIED:20200125T171530Z
UID:8228-1586453400-1586457000@www.atlcp.org
SUMMARY:DDY Soccer
DESCRIPTION:
URL:https://www.atlcp.org/event/ddy-soccer-8-2020-04-09/
END:VEVENT
BEGIN:VEVENT
DTSTART;TZID=America/New_York:20200408T173000
DTEND;TZID=America/New_York:20200408T193000
DTSTAMP:20260423T154352
CREATED:20200219T221825Z
LAST-MODIFIED:20200219T221825Z
UID:8320-1586367000-1586374200@www.atlcp.org
SUMMARY:DDY Soccer
DESCRIPTION:
URL:https://www.atlcp.org/event/ddy-soccer-9-2020-04-08/
END:VEVENT
END:VCALENDAR