BEGIN:VCALENDAR
VERSION:2.0
PRODID:-//Atlanta Contact Point - ECPv6.15.1.1//NONSGML v1.0//EN
CALSCALE:GREGORIAN
METHOD:PUBLISH
X-ORIGINAL-URL:https://www.atlcp.org
X-WR-CALDESC:Events for Atlanta Contact Point
REFRESH-INTERVAL;VALUE=DURATION:PT1H
X-Robots-Tag:noindex
X-PUBLISHED-TTL:PT1H
BEGIN:VTIMEZONE
TZID:America/New_York
BEGIN:DAYLIGHT
TZOFFSETFROM:-0500
TZOFFSETTO:-0400
TZNAME:EDT
DTSTART:20190310T070000
END:DAYLIGHT
BEGIN:STANDARD
TZOFFSETFROM:-0400
TZOFFSETTO:-0500
TZNAME:EST
DTSTART:20191103T060000
END:STANDARD
END:VTIMEZONE
BEGIN:VEVENT
DTSTART;TZID=America/New_York:20190622T140000
DTEND;TZID=America/New_York:20190622T170000
DTSTAMP:20260425T203742
CREATED:20190511T151009Z
LAST-MODIFIED:20190523T155753Z
UID:7567-1561212000-1561222800@www.atlcp.org
SUMMARY:PLAY DAY
DESCRIPTION:
URL:https://www.atlcp.org/event/play-day-7/
END:VEVENT
BEGIN:VEVENT
DTSTART;TZID=America/New_York:20190616T153000
DTEND;TZID=America/New_York:20190616T163000
DTSTAMP:20260425T203742
CREATED:20190617T181206Z
LAST-MODIFIED:20190617T181206Z
UID:7646-1560699000-1560702600@www.atlcp.org
SUMMARY:ladies soccer
DESCRIPTION:678–469-3687
URL:https://www.atlcp.org/event/ladies-soccer-2/
END:VEVENT
BEGIN:VEVENT
DTSTART;TZID=America/New_York:20190616T133000
DTEND;TZID=America/New_York:20190616T153000
DTSTAMP:20260425T203742
CREATED:20190611T233447Z
LAST-MODIFIED:20190612T000407Z
UID:7634-1560691800-1560699000@www.atlcp.org
SUMMARY:Bday
DESCRIPTION:Miller; auc­tion; C and S
URL:https://www.atlcp.org/event/bday-308/
END:VEVENT
BEGIN:VEVENT
DTSTART;TZID=America/New_York:20190615T160000
DTEND;TZID=America/New_York:20190615T180000
DTSTAMP:20260425T203742
CREATED:20190531T135853Z
LAST-MODIFIED:20190612T000327Z
UID:7606-1560614400-1560621600@www.atlcp.org
SUMMARY:Bday
DESCRIPTION:Devired­dy $175 pd;$175 pd; C and S
URL:https://www.atlcp.org/event/bday-303/
END:VEVENT
BEGIN:VEVENT
DTSTART;TZID=America/New_York:20190615T133000
DTEND;TZID=America/New_York:20190615T153000
DTSTAMP:20260425T203742
CREATED:20190510T121120Z
LAST-MODIFIED:20190614T161449Z
UID:7560-1560605400-1560612600@www.atlcp.org
SUMMARY:Party
DESCRIPTION:Zbeeb; $175 pd; Lee\, E\, S\, V; $275 pd
URL:https://www.atlcp.org/event/party-3/
END:VEVENT
BEGIN:VEVENT
DTSTART;TZID=America/New_York:20190615T110000
DTEND;TZID=America/New_York:20190615T130000
DTSTAMP:20260425T203742
CREATED:20190531T223809Z
LAST-MODIFIED:20190612T000210Z
UID:7608-1560596400-1560603600@www.atlcp.org
SUMMARY:Bday
DESCRIPTION:Per­ry; $175 pd; Lee and E
URL:https://www.atlcp.org/event/bday-304/
END:VEVENT
BEGIN:VEVENT
DTSTART;TZID=America/New_York:20190615T090000
DTEND;TZID=America/New_York:20190615T103000
DTSTAMP:20260425T203742
CREATED:20190528T135430Z
LAST-MODIFIED:20190614T161341Z
UID:7602-1560589200-1560594600@www.atlcp.org
SUMMARY:Bday OFFSITE
DESCRIPTION:Pep­per; $150 pd; Soc­cer stuff; Winn Park mid­town; $150 pd
URL:https://www.atlcp.org/event/bday-offsite-17/
END:VEVENT
BEGIN:VEVENT
DTSTART;TZID=America/New_York:20190614T123000
DTEND;TZID=America/New_York:20190614T140000
DTSTAMP:20260425T203742
CREATED:20190304T203424Z
LAST-MODIFIED:20190612T000537Z
UID:7369-1560515400-1560520800@www.atlcp.org
SUMMARY:Ansley Swim Team
DESCRIPTION:matt lang­ford; ages 9/10; C\, L\, V
URL:https://www.atlcp.org/event/ansley-swim-team-2/
END:VEVENT
BEGIN:VEVENT
DTSTART;TZID=America/New_York:20190612T120000
DTEND;TZID=America/New_York:20190612T133000
DTSTAMP:20260425T203742
CREATED:20190304T203312Z
LAST-MODIFIED:20190612T000449Z
UID:7367-1560340800-1560346200@www.atlcp.org
SUMMARY:Ansley Swim Team
DESCRIPTION:Matt Lang­ford; ages 7/8; C\, Lily\, Devon
URL:https://www.atlcp.org/event/ansley-swim-team/
END:VEVENT
BEGIN:VEVENT
DTSTART;TZID=America/New_York:20190612T100000
DTEND;TZID=America/New_York:20190612T130000
DTSTAMP:20260425T203742
CREATED:20190430T185727Z
LAST-MODIFIED:20190430T185727Z
UID:7537-1560333600-1560344400@www.atlcp.org
SUMMARY:Tree Climb Camp Scene
DESCRIPTION:
URL:https://www.atlcp.org/event/tree-climb-camp-scene/
END:VEVENT
BEGIN:VEVENT
DTSTART;TZID=America/New_York:20190609T181500
DTEND;TZID=America/New_York:20190609T201500
DTSTAMP:20260425T203742
CREATED:20190605T140116Z
LAST-MODIFIED:20190607T170537Z
UID:7617-1560104100-1560111300@www.atlcp.org
SUMMARY:Bday
DESCRIPTION:McLean; $200 pd; no coaches
URL:https://www.atlcp.org/event/bday-305/
END:VEVENT
BEGIN:VEVENT
DTSTART;TZID=America/New_York:20190609T160000
DTEND;TZID=America/New_York:20190609T180000
DTSTAMP:20260425T203742
CREATED:20190523T154436Z
LAST-MODIFIED:20190523T154436Z
UID:7593-1560096000-1560103200@www.atlcp.org
SUMMARY:BDay
DESCRIPTION:Carter\, Cleary; $175 pd
URL:https://www.atlcp.org/event/bday-302/
END:VEVENT
BEGIN:VEVENT
DTSTART;TZID=America/New_York:20190609T133000
DTEND;TZID=America/New_York:20190609T153000
DTSTAMP:20260425T203742
CREATED:20190515T204947Z
LAST-MODIFIED:20190607T170249Z
UID:7582-1560087000-1560094200@www.atlcp.org
SUMMARY:Bday
DESCRIPTION:Bacon; $175 pd; $175 pd
URL:https://www.atlcp.org/event/bday-300/
END:VEVENT
BEGIN:VEVENT
DTSTART;TZID=America/New_York:20190609T113000
DTEND;TZID=America/New_York:20190609T130000
DTSTAMP:20260425T203742
CREATED:20190608T153602Z
LAST-MODIFIED:20190608T153602Z
UID:7629-1560079800-1560085200@www.atlcp.org
SUMMARY:Field Rental
DESCRIPTION:Goal keep­ing lesson
URL:https://www.atlcp.org/event/field-rental-2/
END:VEVENT
BEGIN:VEVENT
DTSTART;TZID=America/New_York:20190608T181500
DTEND;TZID=America/New_York:20190608T201500
DTSTAMP:20260425T203742
CREATED:20190606T132558Z
LAST-MODIFIED:20190606T132558Z
UID:7619-1560017700-1560024900@www.atlcp.org
SUMMARY:Bday
DESCRIPTION:Ram­ga
URL:https://www.atlcp.org/event/bday-306/
END:VEVENT
BEGIN:VEVENT
DTSTART;TZID=America/New_York:20190608T160000
DTEND;TZID=America/New_York:20190608T180000
DTSTAMP:20260425T203742
CREATED:20190510T150252Z
LAST-MODIFIED:20190607T170146Z
UID:7562-1560009600-1560016800@www.atlcp.org
SUMMARY:Bday
DESCRIPTION:Scar­brough; $175 pd; $175 pd
URL:https://www.atlcp.org/event/bday-297/
END:VEVENT
BEGIN:VEVENT
DTSTART;TZID=America/New_York:20190608T133000
DTEND;TZID=America/New_York:20190608T153000
DTSTAMP:20260425T203742
CREATED:20190506T212412Z
LAST-MODIFIED:20190511T135357Z
UID:7556-1560000600-1560007800@www.atlcp.org
SUMMARY:Bday
DESCRIPTION:Patel\, Fish­er; want Coach Cae­sar; $175 pd
URL:https://www.atlcp.org/event/bday-296/
END:VEVENT
BEGIN:VEVENT
DTSTART;TZID=America/New_York:20190608T110000
DTEND;TZID=America/New_York:20190608T130000
DTSTAMP:20260425T203742
CREATED:20190502T202438Z
LAST-MODIFIED:20190607T170217Z
UID:7547-1559991600-1559998800@www.atlcp.org
SUMMARY:Bday
DESCRIPTION:Bak­er; $175 pd; $175 pd
URL:https://www.atlcp.org/event/bday-294/
END:VEVENT
BEGIN:VEVENT
DTSTART;TZID=America/New_York:20190603T100000
DTEND;TZID=America/New_York:20190603T130000
DTSTAMP:20260425T203742
CREATED:20190430T185639Z
LAST-MODIFIED:20190430T185639Z
UID:7535-1559556000-1559566800@www.atlcp.org
SUMMARY:Tree Climb Kiddos
DESCRIPTION:
URL:https://www.atlcp.org/event/tree-climb-kiddos-2/
END:VEVENT
BEGIN:VEVENT
DTSTART;TZID=America/New_York:20190531T100000
DTEND;TZID=America/New_York:20190531T130000
DTSTAMP:20260425T203742
CREATED:20190430T185555Z
LAST-MODIFIED:20190430T185555Z
UID:7533-1559296800-1559307600@www.atlcp.org
SUMMARY:Tree Climb Kiddos
DESCRIPTION:
URL:https://www.atlcp.org/event/tree-climb-kiddos/
END:VEVENT
BEGIN:VEVENT
DTSTART;TZID=America/New_York:20190526T170000
DTEND;TZID=America/New_York:20190526T200000
DTSTAMP:20260425T203742
CREATED:20190411T020244Z
LAST-MODIFIED:20190411T020244Z
UID:7475-1558890000-1558900800@www.atlcp.org
SUMMARY:Party
DESCRIPTION:Shevlin; $150 pd\, $150 due
URL:https://www.atlcp.org/event/party-2/
END:VEVENT
BEGIN:VEVENT
DTSTART;TZID=America/New_York:20190525T160000
DTEND;TZID=America/New_York:20190525T180000
DTSTAMP:20260425T203742
CREATED:20190513T122100Z
LAST-MODIFIED:20190516T123121Z
UID:7573-1558800000-1558807200@www.atlcp.org
SUMMARY:Bday
DESCRIPTION:Jgroberts; $175 pd
URL:https://www.atlcp.org/event/bday-298/
END:VEVENT
BEGIN:VEVENT
DTSTART;TZID=America/New_York:20190525T110000
DTEND;TZID=America/New_York:20190525T130000
DTSTAMP:20260425T203742
CREATED:20190501T112421Z
LAST-MODIFIED:20190501T152559Z
UID:7541-1558782000-1558789200@www.atlcp.org
SUMMARY:Bday\, L5P
DESCRIPTION:Benoy; $350 pd
URL:https://www.atlcp.org/event/bday-l5p-2/
END:VEVENT
BEGIN:VEVENT
DTSTART;TZID=America/New_York:20190523T173000
DTEND;TZID=America/New_York:20190523T203000
DTSTAMP:20260425T203742
CREATED:20190119T141938Z
LAST-MODIFIED:20190119T141938Z
UID:7207-1558632600-1558643400@www.atlcp.org
SUMMARY:Soccer\, DDY
DESCRIPTION:
URL:https://www.atlcp.org/event/soccer-ddy-4-2019-05-23/
END:VEVENT
BEGIN:VEVENT
DTSTART;TZID=America/New_York:20190522T173000
DTEND;TZID=America/New_York:20190522T183000
DTSTAMP:20260425T203742
CREATED:20190119T141851Z
LAST-MODIFIED:20190119T141851Z
UID:7212-1558546200-1558549800@www.atlcp.org
SUMMARY:Soccer\, DDY
DESCRIPTION:
URL:https://www.atlcp.org/event/soccer-ddy-3-2019-05-22/
END:VEVENT
BEGIN:VEVENT
DTSTART;TZID=America/New_York:20190522T160000
DTEND;TZID=America/New_York:20190522T164500
DTSTAMP:20260425T203742
CREATED:20181130T122633Z
LAST-MODIFIED:20190119T162614Z
UID:7135-1558540800-1558543500@www.atlcp.org
SUMMARY:Soccer\, Spanish Globe
DESCRIPTION:Globe Ath­let­ics
URL:https://www.atlcp.org/event/soccer-12-2019-05-22/
END:VEVENT
BEGIN:VEVENT
DTSTART;TZID=America/New_York:20190521T180000
DTEND;TZID=America/New_York:20190521T190000
DTSTAMP:20260425T203742
CREATED:20190119T141810Z
LAST-MODIFIED:20190119T141810Z
UID:7316-1558461600-1558465200@www.atlcp.org
SUMMARY:Soccer\, DDY
DESCRIPTION:
URL:https://www.atlcp.org/event/soccer-ddy-2-2019-05-21/
END:VEVENT
BEGIN:VEVENT
DTSTART;TZID=America/New_York:20190520T173000
DTEND;TZID=America/New_York:20190520T203000
DTSTAMP:20260425T203742
CREATED:20190119T141717Z
LAST-MODIFIED:20190119T141717Z
UID:7222-1558373400-1558384200@www.atlcp.org
SUMMARY:Soccer\, DDY
DESCRIPTION:
URL:https://www.atlcp.org/event/soccer-ddy-2019-05-20/
END:VEVENT
BEGIN:VEVENT
DTSTART;TZID=America/New_York:20190519T180000
DTEND;TZID=America/New_York:20190519T180000
DTSTAMP:20260425T203742
CREATED:20190401T150952Z
LAST-MODIFIED:20190401T150952Z
UID:7452-1558288800-1558288800@www.atlcp.org
SUMMARY:Camp Orientation
DESCRIPTION:
URL:https://www.atlcp.org/event/camp-orientation-2/
END:VEVENT
BEGIN:VEVENT
DTSTART;TZID=America/New_York:20190519T141500
DTEND;TZID=America/New_York:20190519T151500
DTSTAMP:20260425T203742
CREATED:20190428T175703Z
LAST-MODIFIED:20190505T210040Z
UID:7528-1558275300-1558278900@www.atlcp.org
SUMMARY:Bday Off-site
DESCRIPTION:Hesse; $100 pd; $125 due; Fourth Ward Park green space for soc­cer; 2 coach­es 1 hour
URL:https://www.atlcp.org/event/bday-off-site-3/
END:VEVENT
END:VCALENDAR