BEGIN:VCALENDAR
VERSION:2.0
PRODID:-//Atlanta Contact Point - ECPv6.15.1.1//NONSGML v1.0//EN
CALSCALE:GREGORIAN
METHOD:PUBLISH
X-WR-CALNAME:Atlanta Contact Point
X-ORIGINAL-URL:https://www.atlcp.org
X-WR-CALDESC:Events for Atlanta Contact Point
REFRESH-INTERVAL;VALUE=DURATION:PT1H
X-Robots-Tag:noindex
X-PUBLISHED-TTL:PT1H
BEGIN:VTIMEZONE
TZID:America/New_York
BEGIN:DAYLIGHT
TZOFFSETFROM:-0500
TZOFFSETTO:-0400
TZNAME:EDT
DTSTART:20200308T070000
END:DAYLIGHT
BEGIN:STANDARD
TZOFFSETFROM:-0400
TZOFFSETTO:-0500
TZNAME:EST
DTSTART:20201101T060000
END:STANDARD
END:VTIMEZONE
BEGIN:VEVENT
DTSTART;TZID=America/New_York:20200315T160000
DTEND;TZID=America/New_York:20200315T180000
DTSTAMP:20260424T021534
CREATED:20200226T152240Z
LAST-MODIFIED:20200311T153442Z
UID:8356-1584288000-1584295200@www.atlcp.org
SUMMARY:Bday Tree CLimbing
DESCRIPTION:Keely­muse
URL:https://www.atlcp.org/event/bday-381/
END:VEVENT
BEGIN:VEVENT
DTSTART;TZID=America/New_York:20200314T153000
DTEND;TZID=America/New_York:20200314T170000
DTSTAMP:20260424T021534
CREATED:20200223T224140Z
LAST-MODIFIED:20200224T130054Z
UID:8348-1584199800-1584205200@www.atlcp.org
SUMMARY:Bday Offsite with mall backup
DESCRIPTION:Cush­nie; off­site with mall back-up; $175 pd \n\n\n\nWe are in Decatur in Win­nona Park.\n \n140 Can­dler Drive\n \nLet’s shoot for 3:30 — 5:00 at our house with a back­up plan of 4–6 at the mall. Does that work?
URL:https://www.atlcp.org/event/bday-offsite-with-mall-backup/
END:VEVENT
BEGIN:VEVENT
DTSTART;TZID=America/New_York:20200314T110000
DTEND;TZID=America/New_York:20200314T130000
DTSTAMP:20260424T021534
CREATED:20200303T122935Z
LAST-MODIFIED:20200303T193204Z
UID:8368-1584183600-1584190800@www.atlcp.org
SUMMARY:Bday
DESCRIPTION:Lind­sey; $175 pd
URL:https://www.atlcp.org/event/bday-384/
END:VEVENT
BEGIN:VEVENT
DTSTART;TZID=America/New_York:20200312T173000
DTEND;TZID=America/New_York:20200312T183000
DTSTAMP:20260424T021534
CREATED:20200125T171530Z
LAST-MODIFIED:20200125T171530Z
UID:8224-1584034200-1584037800@www.atlcp.org
SUMMARY:DDY Soccer
DESCRIPTION:
URL:https://www.atlcp.org/event/ddy-soccer-8-2020-03-12/
END:VEVENT
BEGIN:VEVENT
DTSTART;TZID=America/New_York:20200311T173000
DTEND;TZID=America/New_York:20200311T193000
DTSTAMP:20260424T021534
CREATED:20200219T221825Z
LAST-MODIFIED:20200219T221825Z
UID:8316-1583947800-1583955000@www.atlcp.org
SUMMARY:DDY Soccer
DESCRIPTION:
URL:https://www.atlcp.org/event/ddy-soccer-9-2020-03-11/
END:VEVENT
BEGIN:VEVENT
DTSTART;TZID=America/New_York:20200311T173000
DTEND;TZID=America/New_York:20200311T193000
DTSTAMP:20260424T021534
CREATED:20200125T171347Z
LAST-MODIFIED:20200125T171347Z
UID:8332-1583947800-1583955000@www.atlcp.org
SUMMARY:DDY Soccer
DESCRIPTION:
URL:https://www.atlcp.org/event/ddy-soccer-7-2020-03-11/
END:VEVENT
BEGIN:VEVENT
DTSTART;TZID=America/New_York:20200311T160000
DTEND;TZID=America/New_York:20200311T170000
DTSTAMP:20260424T021534
CREATED:20200125T171031Z
LAST-MODIFIED:20200125T171031Z
UID:8179-1583942400-1583946000@www.atlcp.org
SUMMARY:Globe Soccer
DESCRIPTION:
URL:https://www.atlcp.org/event/globe-soccer-2-2020-03-11/
END:VEVENT
BEGIN:VEVENT
DTSTART;TZID=America/New_York:20200310T173000
DTEND;TZID=America/New_York:20200310T193000
DTSTAMP:20260424T021534
CREATED:20200125T171242Z
LAST-MODIFIED:20200125T171242Z
UID:8212-1583861400-1583868600@www.atlcp.org
SUMMARY:DDY Soccer
DESCRIPTION:
URL:https://www.atlcp.org/event/ddy-soccer-6-2020-03-10/
END:VEVENT
BEGIN:VEVENT
DTSTART;TZID=America/New_York:20200309T063000
DTEND;TZID=America/New_York:20200309T193000
DTSTAMP:20260424T021534
CREATED:20200125T171157Z
LAST-MODIFIED:20200125T171157Z
UID:8188-1583735400-1583782200@www.atlcp.org
SUMMARY:DDY Soccer
DESCRIPTION:
URL:https://www.atlcp.org/event/ddy-soccer-5-2020-03-09/
END:VEVENT
BEGIN:VEVENT
DTSTART;TZID=America/New_York:20200308T160000
DTEND;TZID=America/New_York:20200308T180000
DTSTAMP:20260424T021534
CREATED:20200210T155014Z
LAST-MODIFIED:20200211T132700Z
UID:8291-1583683200-1583690400@www.atlcp.org
SUMMARY:Bday
DESCRIPTION:Melton: 175 pd
URL:https://www.atlcp.org/event/bday-377/
END:VEVENT
BEGIN:VEVENT
DTSTART;TZID=America/New_York:20200307T170000
DTEND;TZID=America/New_York:20200307T180000
DTSTAMP:20260424T021534
CREATED:20200224T224659Z
LAST-MODIFIED:20200226T023842Z
UID:8351-1583600400-1583604000@www.atlcp.org
SUMMARY:Bday Offsite
DESCRIPTION:Goetz; 60 min­utes\, 1 coach\, 10350 Tux­ford Dri­ve\, Alpharet­ta\, GA\, 30022; $200 total; $100 pd
URL:https://www.atlcp.org/event/bday-offsite-24/
END:VEVENT
BEGIN:VEVENT
DTSTART;TZID=America/New_York:20200307T110000
DTEND;TZID=America/New_York:20200307T130000
DTSTAMP:20260424T021534
CREATED:20200212T030414Z
LAST-MODIFIED:20200212T200758Z
UID:8298-1583578800-1583586000@www.atlcp.org
SUMMARY:Bday? Tree Climbing
DESCRIPTION:Stri­eter; $200 pd
URL:https://www.atlcp.org/event/bday-379/
END:VEVENT
BEGIN:VEVENT
DTSTART;TZID=America/New_York:20200305T173000
DTEND;TZID=America/New_York:20200305T183000
DTSTAMP:20260424T021534
CREATED:20200125T171530Z
LAST-MODIFIED:20200125T171530Z
UID:8223-1583429400-1583433000@www.atlcp.org
SUMMARY:DDY Soccer
DESCRIPTION:
URL:https://www.atlcp.org/event/ddy-soccer-8-2020-03-05/
END:VEVENT
BEGIN:VEVENT
DTSTART;TZID=America/New_York:20200304T173000
DTEND;TZID=America/New_York:20200304T193000
DTSTAMP:20260424T021534
CREATED:20200219T221825Z
LAST-MODIFIED:20200219T221825Z
UID:8315-1583343000-1583350200@www.atlcp.org
SUMMARY:DDY Soccer
DESCRIPTION:
URL:https://www.atlcp.org/event/ddy-soccer-9-2020-03-04/
END:VEVENT
BEGIN:VEVENT
DTSTART;TZID=America/New_York:20200304T173000
DTEND;TZID=America/New_York:20200304T193000
DTSTAMP:20260424T021534
CREATED:20200125T171347Z
LAST-MODIFIED:20200125T171347Z
UID:8331-1583343000-1583350200@www.atlcp.org
SUMMARY:DDY Soccer
DESCRIPTION:
URL:https://www.atlcp.org/event/ddy-soccer-7-2020-03-04/
END:VEVENT
BEGIN:VEVENT
DTSTART;TZID=America/New_York:20200304T160000
DTEND;TZID=America/New_York:20200304T170000
DTSTAMP:20260424T021534
CREATED:20200125T171031Z
LAST-MODIFIED:20200125T171031Z
UID:8178-1583337600-1583341200@www.atlcp.org
SUMMARY:Globe Soccer
DESCRIPTION:
URL:https://www.atlcp.org/event/globe-soccer-2-2020-03-04/
END:VEVENT
BEGIN:VEVENT
DTSTART;TZID=America/New_York:20200303T173000
DTEND;TZID=America/New_York:20200303T193000
DTSTAMP:20260424T021534
CREATED:20200125T171242Z
LAST-MODIFIED:20200125T171242Z
UID:8211-1583256600-1583263800@www.atlcp.org
SUMMARY:DDY Soccer
DESCRIPTION:
URL:https://www.atlcp.org/event/ddy-soccer-6-2020-03-03/
END:VEVENT
BEGIN:VEVENT
DTSTART;TZID=America/New_York:20200302T063000
DTEND;TZID=America/New_York:20200302T193000
DTSTAMP:20260424T021534
CREATED:20200125T171157Z
LAST-MODIFIED:20200125T171157Z
UID:8187-1583130600-1583177400@www.atlcp.org
SUMMARY:DDY Soccer
DESCRIPTION:
URL:https://www.atlcp.org/event/ddy-soccer-5-2020-03-02/
END:VEVENT
BEGIN:VEVENT
DTSTART;TZID=America/New_York:20200301T150000
DTEND;TZID=America/New_York:20200301T163000
DTSTAMP:20260424T021534
CREATED:20200112T232238Z
LAST-MODIFIED:20200227T221505Z
UID:8135-1583074800-1583080200@www.atlcp.org
SUMMARY:Bday OFFSITE
DESCRIPTION:Kessler; ; $175 pd Alpharet­ta; Flag Foot­ball\, Dodge­ball\, Tu-of-war; capture \nOur address is 2280 Bar­ring­ton trail Alpharet­ta\, GA 30005. My cell phone num­ber is 770–380-7139.
URL:https://www.atlcp.org/event/bday-offsite-21/
END:VEVENT
BEGIN:VEVENT
DTSTART;TZID=America/New_York:20200301T110000
DTEND;TZID=America/New_York:20200301T130000
DTSTAMP:20260424T021534
CREATED:20200206T213919Z
LAST-MODIFIED:20200206T213919Z
UID:8283-1583060400-1583067600@www.atlcp.org
SUMMARY:Bday
DESCRIPTION:Can­tos; Flag foot­ball; $175v pd
URL:https://www.atlcp.org/event/bday-376/
END:VEVENT
BEGIN:VEVENT
DTSTART;TZID=America/New_York:20200229T160000
DTEND;TZID=America/New_York:20200229T180000
DTSTAMP:20260424T021534
CREATED:20200122T230743Z
LAST-MODIFIED:20200123T211700Z
UID:8164-1582992000-1582999200@www.atlcp.org
SUMMARY:Bday
DESCRIPTION:Bhan­dari; $200 pd; 3 coaches \nMy son is turn­ing 6.  We are expect­ing maybe 20–25 kids? \nHe would like foot­ball\, soc­cer\, dodge­ball and gaga?\nWe are plan­ning to have a small art project in the side room as an alter­na­tive to the games.
URL:https://www.atlcp.org/event/bday-371/
END:VEVENT
BEGIN:VEVENT
DTSTART;TZID=America/New_York:20200229T133000
DTEND;TZID=America/New_York:20200229T153000
DTSTAMP:20260424T021534
CREATED:20200205T231257Z
LAST-MODIFIED:20200205T231257Z
UID:8279-1582983000-1582990200@www.atlcp.org
SUMMARY:Bday
DESCRIPTION:Gold­stein; $175 pd
URL:https://www.atlcp.org/event/bday-375/
END:VEVENT
BEGIN:VEVENT
DTSTART;TZID=America/New_York:20200229T110000
DTEND;TZID=America/New_York:20200229T130000
DTSTAMP:20260424T021534
CREATED:20200107T032040Z
LAST-MODIFIED:20200108T222612Z
UID:8119-1582974000-1582981200@www.atlcp.org
SUMMARY:Bday
DESCRIPTION:Meisel; $175
URL:https://www.atlcp.org/event/bday-368/
END:VEVENT
BEGIN:VEVENT
DTSTART;TZID=America/New_York:20200227T173000
DTEND;TZID=America/New_York:20200227T183000
DTSTAMP:20260424T021534
CREATED:20200125T171530Z
LAST-MODIFIED:20200125T171530Z
UID:8222-1582824600-1582828200@www.atlcp.org
SUMMARY:DDY Soccer
DESCRIPTION:
URL:https://www.atlcp.org/event/ddy-soccer-8-2020-02-27/
END:VEVENT
BEGIN:VEVENT
DTSTART;TZID=America/New_York:20200226T173000
DTEND;TZID=America/New_York:20200226T193000
DTSTAMP:20260424T021534
CREATED:20200219T221825Z
LAST-MODIFIED:20200219T221825Z
UID:8314-1582738200-1582745400@www.atlcp.org
SUMMARY:DDY Soccer
DESCRIPTION:
URL:https://www.atlcp.org/event/ddy-soccer-9-2020-02-26/
END:VEVENT
BEGIN:VEVENT
DTSTART;TZID=America/New_York:20200226T173000
DTEND;TZID=America/New_York:20200226T193000
DTSTAMP:20260424T021534
CREATED:20200125T171347Z
LAST-MODIFIED:20200125T171347Z
UID:8330-1582738200-1582745400@www.atlcp.org
SUMMARY:DDY Soccer
DESCRIPTION:
URL:https://www.atlcp.org/event/ddy-soccer-7-2020-02-26/
END:VEVENT
BEGIN:VEVENT
DTSTART;TZID=America/New_York:20200226T160000
DTEND;TZID=America/New_York:20200226T170000
DTSTAMP:20260424T021534
CREATED:20200125T171031Z
LAST-MODIFIED:20200125T171031Z
UID:8177-1582732800-1582736400@www.atlcp.org
SUMMARY:Globe Soccer
DESCRIPTION:
URL:https://www.atlcp.org/event/globe-soccer-2-2020-02-26/
END:VEVENT
BEGIN:VEVENT
DTSTART;TZID=America/New_York:20200225T173000
DTEND;TZID=America/New_York:20200225T193000
DTSTAMP:20260424T021534
CREATED:20200125T171242Z
LAST-MODIFIED:20200125T171242Z
UID:8210-1582651800-1582659000@www.atlcp.org
SUMMARY:DDY Soccer
DESCRIPTION:
URL:https://www.atlcp.org/event/ddy-soccer-6-2020-02-25/
END:VEVENT
BEGIN:VEVENT
DTSTART;TZID=America/New_York:20200224T063000
DTEND;TZID=America/New_York:20200224T193000
DTSTAMP:20260424T021534
CREATED:20200125T171157Z
LAST-MODIFIED:20200125T171157Z
UID:8186-1582525800-1582572600@www.atlcp.org
SUMMARY:DDY Soccer
DESCRIPTION:
URL:https://www.atlcp.org/event/ddy-soccer-5-2020-02-24/
END:VEVENT
BEGIN:VEVENT
DTSTART;TZID=America/New_York:20200223T110000
DTEND;TZID=America/New_York:20200223T150000
DTSTAMP:20260424T021534
CREATED:20200120T191501Z
LAST-MODIFIED:20200203T121425Z
UID:8155-1582455600-1582470000@www.atlcp.org
SUMMARY:Dball Fundraiser
DESCRIPTION:Mor­ri­son
URL:https://www.atlcp.org/event/dball-fundraiser/
END:VEVENT
END:VCALENDAR